BEGIN:VCALENDAR
VERSION:2.0
PRODID:-//Basketball WA - ECPv5.0.0.2//NONSGML v1.0//EN
CALSCALE:GREGORIAN
METHOD:PUBLISH
X-WR-CALNAME:Basketball WA
X-ORIGINAL-URL:https://basketballwa.asn.au
X-WR-CALDESC:Events for Basketball WA
BEGIN:VTIMEZONE
TZID:Australia/Perth
BEGIN:STANDARD
TZOFFSETFROM:+0800
TZOFFSETTO:+0800
TZNAME:AWST
DTSTART:20200101T000000
END:STANDARD
END:VTIMEZONE
BEGIN:VEVENT
DTSTART;VALUE=DATE:20200208
DTEND;VALUE=DATE:20200210
DTSTAMP:20200227T130238
CREATED:20191216T051022Z
LAST-MODIFIED:20191216T051538Z
UID:8432-1581120000-1581292799@basketballwa.asn.au
SUMMARY:2020 BWA Country Championships - U12G\, U13G\, U14B and U15B
DESCRIPTION:The 2020 BWA Country Championships will be held at the Bendat Basketball Centre\, Floreat. \nThe second venue used will be Wally Hagan Stadium\, Hamilton Hill. \nDates \nJunior Championships: U12G\, U13G\, U14B and U15B \n\nSaturday 8 February 2020\nSunday 9 February 2020\n\n  \nPlease note game days will begin at approximately 7.30 am with the length of each day dependant on the number of teams nominated per division. \nPlease click below for the 2019 BWA Country Championship Rules.\n2019 Country Championship Rules \nTo register as a player for the 2020 Country Championships\, please click on the below registration form.\nhttps://membership.sportstg.com/regoform.cgi?formID=76093 \nFor further information please contact Alanna Burton on (08) 6272 0703 or alanna.burton@basketballwa.asn.au \n
URL:https://basketballwa.asn.au/event/2020-bwa-country-championships-u12g-u13g-u14b-and-u15b/
LOCATION:Bendat Basketball Centre\, 201 Underwood Avenue\, Floreat\, WA\, 6014\, Australia
ATTACH;FMTTYPE=application/pdf:https://basketballwa.asn.au/wp-content/uploads/2019/12/CountryChamps2020.pdf
END:VEVENT
BEGIN:VEVENT
DTSTART;VALUE=DATE:20200215
DTEND;VALUE=DATE:20200217
DTSTAMP:20200227T130238
CREATED:20191216T051037Z
LAST-MODIFIED:20191216T051512Z
UID:8435-1581724800-1581897599@basketballwa.asn.au
SUMMARY:2020 BWA COUNTRY CHAMPIONSHIPS - U12B\, U13B\, U14G AND U15B
DESCRIPTION:The 2020 BWA Country Championships will be held at the Bendat Basketball Centre\, Floreat. \nThe second venue used will be Wally Hagan Stadium\, Hamilton Hill. \nDates \nJunior Championships: U12B\, U13B\, U14G and U15G \n\nSaturday 15 February 2020\nSunday 16 February 2020\n\nPlease note game days will begin at approximately 7.30 am with the length of each day dependant on the number of teams nominated per division. \nPlease click below for the 2019 BWA Country Championship Rules.\n2019 Country Championship Rules \nTo register as a player for the 2020 Country Championships\, please click on the below registration form.\nhttps://membership.sportstg.com/regoform.cgi?formID=76093 \nFor further information please contact Alanna Burton on (08) 6272 0703 or alanna.burton@basketballwa.asn.au \n
URL:https://basketballwa.asn.au/event/2020-bwa-country-championships-u12b-u13b-u14g-and-u15b/
LOCATION:WA
ATTACH;FMTTYPE=application/pdf:https://basketballwa.asn.au/wp-content/uploads/2019/12/CountryChamps2020-1.pdf
END:VEVENT
BEGIN:VEVENT
DTSTART;VALUE=DATE:20200222
DTEND;VALUE=DATE:20200224
DTSTAMP:20200227T130238
CREATED:20191216T051050Z
LAST-MODIFIED:20191216T051453Z
UID:8438-1582329600-1582502399@basketballwa.asn.au
SUMMARY:2020 BWA Country Championships - Under 16/18
DESCRIPTION:The 2020 BWA Country Championships will be held at the Bendat Basketball Centre\, Floreat. \nThe second venue used will be Wally Hagan Stadium\, Hamilton Hill. \nDates \nUnder 16/18 Championships: U16 and U18 Boys & Girls \n\nSaturday 22 February 2020\nSunday 23 February 2020\n\n  \nPlease note game days will begin at approximately 7.30 am with the length of each day dependant on the number of teams nominated per division. \nPlease click below for the 2019 BWA Country Championship Rules.\n2019 Country Championship Rules \nTo register as a player for the 2020 Country Championships\, please click on the below registration form.\nhttps://membership.sportstg.com/regoform.cgi?formID=76093 \nFor further information please contact Alanna Burton on (08) 6272 0703 or alanna.burton@basketballwa.asn.au \n
URL:https://basketballwa.asn.au/event/2020-bwa-country-championships-under-16-18/
LOCATION:WA
ATTACH;FMTTYPE=application/pdf:https://basketballwa.asn.au/wp-content/uploads/2019/12/CountryChamps2020-3.pdf
END:VEVENT
END:VCALENDAR